data_nmof10
_audit_creation_date        09-02-25
_audit_creation_method CRYSTALS_ver_12.86

_oxford_structure_analysis_title  'tnmof10 in P2(1)2(1)2(1)'
_chemical_name_systematic         ?
_chemical_melting_point           ?

#looking for refcif 
 
_publ_contact_author_name         'Jamie A. Gould' 
_publ_contact_author_address 
; 
 Department of Chemistry, 
 University of Liverpool, 
 Crown Street, 
 Liverpool, 
 L69 7ZD 
; 
 
_publ_contact_author_email        'j.a.gould@liv.ac.uk' 
 
_publ_section_exptl_refinement 
; 
029_ALERT_3_B _diffrn_measured_fraction_theta_full Low .......       0.69
911_ALERT_3_C Missing # FCF Refl Between THmin & STh/L=  0.600        232
912_ALERT_4_C Missing # of FCF Reflections Above STh/L=  0.600        173
341_ALERT_3_G Low Bond Precision on C-C Bonds (x 1000) Ang ...          8
910_ALERT_3_G Missing # of FCF Reflections Below Th(Min) .....          5
913_ALERT_3_G Missing # of Very Strong Reflections in FCF ....         63
915_ALERT_3_G Low Friedel Pair Coverage ......................      68.67 Perc

All of the above alerts are caused by shading of the high-pressure cell.

417_ALERT_2_C Short Inter D-H..H-D       H12    ..  H71     ..       2.03 Ang.
417_ALERT_2_C Short Inter D-H..H-D       H52    ..  H71     ..       2.03 Ang.
417_ALERT_2_C Short Inter D-H..H-D       H52    ..  H72     ..       1.69 Ang.

Short contacts are expected at high-pressure (see full text).

731_ALERT_1_C Bond    Calc     0.82(5), Rep   0.819(10) ......       5.00 su-Ra
              O5   -H52     1.555   1.555
731_ALERT_1_C Bond    Calc     0.82(5), Rep   0.818(10) ......       5.00 su-Ra
              O6   -H62     1.555   1.555
731_ALERT_1_C Bond    Calc     0.82(6), Rep   0.819(10) ......       6.00 su-Ra
              O7   -H71     1.555   1.555
731_ALERT_1_C Bond    Calc     0.82(5), Rep   0.817(10) ......       5.00 su-Ra
              O7   -H72     1.555   1.555
732_ALERT_1_C Angle   Calc      104(6), Rep   103.9(10) ......       6.00 su-Ra
              H51  -O5   -H52     1.555   1.555   1.555
732_ALERT_1_C Angle   Calc      104(6), Rep   104.1(10) ......       6.00 su-Ra
              H61  -O6   -H62     1.555   1.555   1.555
732_ALERT_1_C Angle   Calc      104(6), Rep   104.2(10) ......       6.00 su-Ra
              H71  -O7   -H72     1.555   1.555   1.555
731_ALERT_1_G Bond    Calc     0.82(4), Rep   0.820(10) ......       4.00 su-Ra
              O5   -H51     1.555   1.555
731_ALERT_1_G Bond    Calc     0.82(4), Rep   0.821(10) ......       4.00 su-Ra
              O6   -H61     1.555   1.555

The use of restraints in the refinement mean that off diagonal terms in the
variance-covariance matrix are significant, and the diagonal approximation
used in Platon/Checkcif is badly in error.

199_ALERT_1_G Check the Reported _cell_measurement_temperature        293 K
200_ALERT_1_G Check the Reported _diffrn_ambient_temperature .        293 K
791_ALERT_4_G The Model has Chirality at C2      (Verify) ....          S

This is correct.

860_ALERT_3_G Note: Number of Least-Squares Restraints .......         27

1,2 and 1,3 restraints were applied to the aspartate ligand.  
See text for full details.
; 
 
_publ_section_exptl_prep 
; 
? 
; 
 
 
#end of refcif 
_cell_length_a                    10.4702(9)
_cell_length_b                    8.9832(6)
_cell_length_c                    7.4977(8)
_cell_angle_alpha                 90
_cell_angle_beta                  90
_cell_angle_gamma                 90
_cell_volume                      705.20(11)
 
_symmetry_cell_setting            'Orthorhombic' 
_symmetry_space_group_name_H-M    'P 21 21 21 ' 
_symmetry_space_group_name_Hall   'P 2ac 2ab ' 
loop_
 _symmetry_equiv_pos_as_xyz
 'x,y,z'
 'x+1/2,-y+1/2,-z'
 '-x,y+1/2,-z+1/2'
 '-x+1/2,-y,z+1/2'

loop_
_atom_type_symbol
_atom_type_scat_dispersion_real
_atom_type_scat_dispersion_imag
_atom_type_scat_Cromer_Mann_a1
_atom_type_scat_Cromer_Mann_b1
_atom_type_scat_Cromer_Mann_a2
_atom_type_scat_Cromer_Mann_b2
_atom_type_scat_Cromer_Mann_a3
_atom_type_scat_Cromer_Mann_b3
_atom_type_scat_Cromer_Mann_a4
_atom_type_scat_Cromer_Mann_b4
_atom_type_scat_Cromer_Mann_c
_atom_type_scat_source  
 C       0.0033   0.0016   2.3100  20.8439   1.0200  10.2075   1.5886   0.5687
   0.8650  51.6512   0.2156 'International Tables Vol C 4.2.6.8 and 6.1.1.4'
 H       0.0000   0.0000   0.4930  10.5109   0.3229  26.1257   0.1402   3.1424
   0.0408  57.7998   0.0030 'International Tables Vol C 4.2.6.8 and 6.1.1.4'
 N       0.0061   0.0033  12.2126   0.0057   3.1322   9.8933   2.0125  28.9975
   1.1663   0.5826 -11.5290 'International Tables Vol C 4.2.6.8 and 6.1.1.4'
 O       0.0106   0.0060   3.0485  13.2771   2.2868   5.7011   1.5463   0.3239
   0.8670  32.9089   0.2508 'International Tables Vol C 4.2.6.8 and 6.1.1.4'
 Ni      0.3393   1.1124  12.8376   3.8785   7.2920   0.2565   4.4438  12.1763
   2.3800  66.3421   1.0341 'International Tables Vol C 4.2.6.8 and 6.1.1.4'
 
 
_cell_formula_units_Z                    4

# Given Formula = C4 H11 N1 Ni1 O7 
# Dc =      2.30 Fooo =    504.00 Mu =     27.62 M =    243.84
# Found Formula = C4 H11 N1 Ni1 O7 
# Dc =      2.30 FOOO =    504.00 Mu =     27.62 M =    243.84

_chemical_formula_sum             'C4 H11 N1 Ni1 O7'
_chemical_formula_moiety          'C4 H9 N Ni O6, H2 O'
_chemical_compound_source                ?
_chemical_formula_weight            243.84
 
 
_cell_measurement_reflns_used         2663
_cell_measurement_theta_min              3
_cell_measurement_theta_max             20
_cell_measurement_temperature          293
 
_exptl_crystal_description        'block' 
_exptl_crystal_colour             'blue' 
_exptl_crystal_size_min           0.10 
_exptl_crystal_size_mid           0.20 
_exptl_crystal_size_max           0.20 
 
_exptl_crystal_density_diffrn     2.297 
_exptl_crystal_density_meas       ? 
_exptl_crystal_density_method     'not measured' 
# Non-dispersive F(000): 
_exptl_crystal_F_000              504 
_exptl_absorpt_coefficient_mu     2.762 
 
# Sheldrick geometric approximatio 0.58 0.76 
_exptl_absorpt_correction_type    multi-scan 
_exptl_absorpt_process_details    'SADABS (Siemens, 1996)' 
_exptl_absorpt_correction_T_min   0.62 
_exptl_absorpt_correction_T_max   0.76 
_diffrn_measurement_device        'Bruker Kappa Apex2' 
_diffrn_measurement_device_type   'Area' 
_diffrn_radiation_monochromator   'graphite' 
_diffrn_radiation_wavelength           0.4769
_diffrn_source                   synchrotron
_diffrn_measurement_method        ω 
 
# If a reference occurs more than once, delete the author 
# and date from subsequent references. 
_computing_data_collection        'Apex2 (Bruker AXS, 2006)' 
_computing_cell_refinement        'Apex2 (Bruker AXS, 2006)' 
_computing_data_reduction         'Apex2 (Bruker AXS, 2006)' 
_computing_structure_solution     'USER DEFINED STRUCTURE SOLUTION' 
_computing_structure_refinement   'CRYSTALS (Betteridge et al., 2003)' 
_computing_publication_material   'CRYSTALS (Betteridge et al., 2003)' 
_computing_molecular_graphics     'CAMERON (Watkin et al., 1996)' 
 
_diffrn_standards_interval_time   . 
_diffrn_standards_interval_count  . 
_diffrn_standards_number          0 
_diffrn_standards_decay_%         ? 
 
_diffrn_ambient_temperature        293
_diffrn_reflns_number             5114 
_reflns_number_total              1434 
_diffrn_reflns_av_R_equivalents   0.052 
# Number of reflections with Friedels Law is 811 
# Number of reflections without Friedels Law is 1434 
# Theoretical number of reflections is about 1074 
 
 
_diffrn_reflns_theta_min          4.506 
_diffrn_reflns_theta_max          30.477 
_diffrn_measured_fraction_theta_max 0.644 
 
_diffrn_reflns_theta_full         25.296 
_diffrn_measured_fraction_theta_full 0.689 
 
 
_diffrn_reflns_limit_h_min        -13 
_diffrn_reflns_limit_h_max        13 
_diffrn_reflns_limit_k_min        -12 
_diffrn_reflns_limit_k_max        12 
_diffrn_reflns_limit_l_min        -9 
_diffrn_reflns_limit_l_max        9 
_reflns_limit_h_min               -13 
_reflns_limit_h_max               13 
_reflns_limit_k_min               0 
_reflns_limit_k_max               12 
_reflns_limit_l_min               0 
_reflns_limit_l_max               9 
 
_oxford_diffrn_Wilson_B_factor    0.00 
_oxford_diffrn_Wilson_scale       0.00 
 
_atom_sites_solution_primary      direct #heavy,direct,difmap,geom
# _atom_sites_solution_secondary  difmap
_atom_sites_solution_hydrogens    geom
 
_refine_diff_density_min          -1.55 
_refine_diff_density_max          1.92 
 
 
# The current dictionary definitions do not cover the 
# situation where the reflections used for refinement were 
# selected by a user-defined sigma threshold 
 
 
# The values actually used during refinement 
_oxford_reflns_threshold_expression_ref     I>-10.0\s(I)
_refine_ls_number_reflns          1424 
_refine_ls_number_restraints      27 
_refine_ls_number_parameters      137 
_oxford_refine_ls_R_factor_ref    0.0567 
_refine_ls_wR_factor_ref          0.1037 
_refine_ls_goodness_of_fit_ref    0.9996 
_refine_ls_shift/su_max           0.000282 
 
 
# The values computed from all data 
_oxford_reflns_number_all         1424 
_refine_ls_R_factor_all           0.0567 
_refine_ls_wR_factor_all          0.1037 
 
# The values computed with a 2 sigma cutoff - a la SHELX 
_reflns_threshold_expression      I>2.0σ(I)
_reflns_number_gt                 826 
_refine_ls_R_factor_gt            0.0350 
_refine_ls_wR_factor_gt           0.0731 
 
_refine_ls_abs_structure_Flack    0.29(4) 
_refine_ls_abs_structure_details  'Flack (1983), 623 Friedel-pairs' 
# choose from: rm (reference molecule of known chirality), 
# ad (anomolous dispersion - Flack), rmad (rm and ad), 
# syn (from synthesis), unk (unknown) or . (not applicable). 
_chemical_absolute_configuration  'ad' 
 
 
_refine_ls_structure_factor_coef  Fsqd 
_refine_ls_matrix_type            full
_refine_ls_hydrogen_treatment     mixed          # none, undef, noref, refall,
                                                 # refxyz, refU, constr or mixed
_refine_ls_weighting_scheme       calc 
_refine_ls_weighting_details 
;
 Method, part 1, Chebychev polynomial, (Watkin, 1994, Prince, 1982) 
 [weight] = 1.0/[A₀*T₀(x)+A₁*T₁(x) ... +Aₙ₋₁]*Tₙ₋₁(x)] 
 where Ai are the Chebychev coefficients listed below and x= Fcalc/Fmax 
 Method = Robust Weighting (Prince, 1982) 
 W = [weight] * [1-(deltaF/6*sigmaF)²]² 
 Ai are: 
 7.32 7.56 2.28 
;
# Insert your own references if required - in alphabetical order 
_publ_section_references 
; 
User-defined structure solution reference 
 
Betteridge, P.W., Carruthers, J.R., Cooper, R.I., 
Prout, K. & Watkin, D.J. (2003). J. Appl. Cryst. 36, 1487. 
 
Flack, H. D. (1983). Acta Cryst. A39, 876-881. 
 
Prince, E. 
Mathematical Techniques in Crystallography 
and Materials Science 
Springer-Verlag, New York, 1982. 
 
Siemens Industrial Automation, Inc (1996). 
SADABS: Area-Detector Absorption Correction;: Madison, WI. 
 
Watkin D.J. (1994). 
Acta Cryst, A50, 411-437. 
 
Watkin, D.J., Prout, C.K. & Pearce, L.J. (1996). CAMERON, Chemical 
Crystallography Laboratory, Oxford, UK. 
 
Bruker Analytical X-ray Systems, Inc., 2006. Apex2, 
Version 2 User Manual, M86-E01078, Madison, WI. 
; 

# Uequiv = arithmetic mean of Ui i.e. Ueqiv = (U1+U2+U3)/3

# Replace last . with number of unfound hydrogen atomsattached to an atom.

# ..._refinement_flags_... 
# . no refinement constraints           S special position constraint on site
# G rigid group refinement of site      R riding atom
# D distance or angle restraint on site T thermal displacement constraints
# U Uiso or Uij restraint (rigid bond)  P partial occupancy constraint


loop_
_atom_site_label
_atom_site_type_symbol
_atom_site_fract_x
_atom_site_fract_y
_atom_site_fract_z
_atom_site_U_iso_or_equiv
_atom_site_occupancy
_atom_site_adp_type
_atom_site_refinement_flags_posn
_atom_site_refinement_flags_adp
_atom_site_refinement_flags_occupancy
_atom_site_disorder_assembly
_atom_site_disorder_group
_oxford_atom_site_special_shape
_atom_site_attached_hydrogens
Ni1 Ni 0.09702(7) 0.03814(8) 0.12491(12) 0.0174 1.0000 Uani . . . . . . . 
C1 C 0.2805(5) 0.2569(5) 0.1333(8) 0.0182 1.0000 Uani D . . . . . . 
C2 C 0.2178(5) 0.2708(5) -0.0489(8) 0.0160 1.0000 Uani D . . . . . . 
C3 C 0.1121(6) 0.3863(5) -0.0384(8) 0.0182 1.0000 Uani D . . . . . . 
C4 C 0.0097(5) 0.3573(5) 0.0978(9) 0.0201 1.0000 Uani D . . . . . . 
N1 N 0.1655(5) 0.1264(5) -0.1016(9) 0.0186 1.0000 Uani D . . . . . . 
O1 O 0.2613(5) 0.1397(4) 0.2218(7) 0.0223 1.0000 Uani D . . . . . . 
O2 O 0.3459(5) 0.3636(5) 0.1891(7) 0.0279 1.0000 Uani D . . . . . . 
O3 O 0.0039(5) 0.2358(4) 0.1814(7) 0.0207 1.0000 Uani D . . . . . . 
O4 O -0.0675(3) 0.4636(4) 0.1235(7) 0.0191 1.0000 Uani D . . . . . . 
O5 O 0.1892(5) -0.1630(5) 0.0736(7) 0.0227 1.0000 Uani D . . . . . . 
O6 O -0.0770(4) -0.0453(5) 0.0581(6) 0.0229 1.0000 Uani D . . . . . . 
O7 O 0.0293(5) 0.1941(5) 0.5827(8) 0.0244 1.0000 Uani D . . . . . . 
H11 H 0.2264 0.0721 -0.1407 0.0167 1.0000 Uiso . . . . . . . 
H12 H 0.1086 0.1383 -0.1760 0.0167 1.0000 Uiso . . . . . . . 
H21 H 0.2817 0.3039 -0.1319 0.0164 1.0000 Uiso . . . . . . . 
H31 H 0.1524 0.4825 -0.0067 0.0174 1.0000 Uiso . . . . . . . 
H32 H 0.0749 0.3936 -0.1526 0.0174 1.0000 Uiso . . . . . . . 
H51 H 0.210(7) -0.147(8) -0.030(3) 0.0202 1.0000 Uiso D . . . . . . 
H52 H 0.127(4) -0.218(7) 0.064(8) 0.0202 1.0000 Uiso D . . . . . . 
H61 H -0.064(7) -0.001(6) -0.036(4) 0.0222 1.0000 Uiso D . . . . . . 
H62 H -0.113(7) -0.122(5) 0.028(8) 0.0222 1.0000 Uiso D . . . . . . 
H71 H -0.028(5) 0.213(8) 0.653(8) 0.0258 1.0000 Uiso D . . . . . . 
H72 H -0.008(6) 0.165(9) 0.493(6) 0.0258 1.0000 Uiso D . . . . . . 
loop_
_atom_site_aniso_label
_atom_site_aniso_U_11
_atom_site_aniso_U_22
_atom_site_aniso_U_33
_atom_site_aniso_U_23
_atom_site_aniso_U_13
_atom_site_aniso_U_12
Ni1 0.0156(4) 0.0136(3) 0.0228(5) 0.0006(3) 0.0010(3) -0.0012(3) 
C1 0.016(3) 0.018(2) 0.020(4) -0.004(3) -0.001(2) -0.0027(19) 
C2 0.021(4) 0.016(2) 0.012(4) -0.004(2) 0.004(2) -0.001(2) 
C3 0.012(4) 0.016(2) 0.026(5) 0.007(2) 0.005(2) 0.006(2) 
C4 0.021(4) 0.014(2) 0.025(5) 0.003(3) 0.000(2) 0.000(2) 
N1 0.014(3) 0.0143(19) 0.027(4) -0.002(2) -0.0005(19) -0.0040(17) 
O1 0.022(3) 0.0160(19) 0.029(4) 0.0041(18) -0.0057(18) -0.0068(18) 
O2 0.025(3) 0.024(2) 0.034(4) -0.002(2) -0.0058(18) -0.0125(19) 
O3 0.023(3) 0.0145(18) 0.024(4) 0.0041(17) 0.0016(17) 0.0007(17) 
O4 0.024(3) 0.0169(15) 0.016(3) 0.001(2) 0.0025(16) 0.0016(16) 
O5 0.010(3) 0.019(2) 0.040(4) -0.002(2) 0.0010(16) 0.0017(17) 
O6 0.023(3) 0.0188(18) 0.027(3) 0.003(2) -0.0048(16) -0.002(2) 
O7 0.025(3) 0.020(2) 0.028(4) -0.002(2) -0.0001(17) 0.0006(18) 

_refine_ls_extinction_method 
    'None'
_oxford_refine_ls_scale 0.4354(11) 
loop_
 _geom_bond_atom_site_label_1
 _geom_bond_site_symmetry_1
 _geom_bond_atom_site_label_2
 _geom_bond_site_symmetry_2
 _geom_bond_distance
 _geom_bond_publ_flag
Ni1 . O4 3_545 2.026(5)    yes
Ni1 . N1 . 2.007(6)    yes
Ni1 . O1 . 2.078(5)    yes
Ni1 . O3 . 2.069(4)    yes
Ni1 . O5 . 2.084(5)    yes
Ni1 . O6 . 2.033(5)    yes
C1 . C2 . 1.520(7)    yes
C1 . O1 . 1.261(6)    yes
C1 . O2 . 1.250(5)    yes
C2 . C3 . 1.519(6)    yes
C2 . N1 . 1.462(6)    yes
C2 . H21 . 0.961    no
C3 . C4 . 1.504(6)    yes
C3 . H31 . 0.991    no
C3 . H32 . 0.943    no
C4 . O3 . 1.260(5)    yes
C4 . O4 . 1.266(5)    yes
N1 . H11 . 0.855    no
N1 . H12 . 0.823    no
O5 . H51 . 0.820(10)    no
O5 . H52 . 0.819(10)    no
O6 . H61 . 0.821(10)    no
O6 . H62 . 0.818(10)    no
O7 . H71 . 0.819(10)    no
O7 . H72 . 0.817(10)    no
loop_
 _geom_angle_atom_site_label_1
 _geom_angle_site_symmetry_1
 _geom_angle_atom_site_label_2
 _geom_angle_site_symmetry_2
 _geom_angle_atom_site_label_3
 _geom_angle_site_symmetry_3
 _geom_angle
 _geom_angle_publ_flag
O4 3_545 Ni1 . N1 . 166.73(18)    yes
O4 3_545 Ni1 . O1 . 86.89(18)    yes
N1 . Ni1 . O1 . 80.0(2)    yes
O4 3_545 Ni1 . O3 . 91.23(17)    yes
N1 . Ni1 . O3 . 90.13(19)    yes
O1 . Ni1 . O3 . 86.7(2)    yes
O4 3_545 Ni1 . O5 . 87.46(19)    yes
N1 . Ni1 . O5 . 91.2(2)    yes
O1 . Ni1 . O5 . 93.54(19)    yes
O3 . Ni1 . O5 . 178.7(2)    yes
O4 3_545 Ni1 . O6 . 88.34(17)    yes
N1 . Ni1 . O6 . 104.9(2)    yes
O1 . Ni1 . O6 . 171.8(2)    yes
O3 . Ni1 . O6 . 86.8(2)    yes
O5 . Ni1 . O6 . 92.87(19)    yes
C2 . C1 . O1 . 118.2(4)    yes
C2 . C1 . O2 . 118.3(4)    yes
O1 . C1 . O2 . 123.5(5)    yes
C1 . C2 . C3 . 108.9(4)    yes
C1 . C2 . N1 . 109.4(4)    yes
C3 . C2 . N1 . 110.3(4)    yes
C1 . C2 . H21 . 107.9    no
C3 . C2 . H21 . 109.2    no
N1 . C2 . H21 . 111.1    no
C2 . C3 . C4 . 115.9(4)    yes
C2 . C3 . H31 . 107.3    no
C4 . C3 . H31 . 107.0    no
C2 . C3 . H32 . 107.6    no
C4 . C3 . H32 . 109.5    no
H31 . C3 . H32 . 109.5    no
C3 . C4 . O3 . 121.5(4)    yes
C3 . C4 . O4 . 115.3(4)    yes
O3 . C4 . O4 . 123.2(5)    yes
C2 . N1 . Ni1 . 104.8(4)    yes
C2 . N1 . H11 . 108.6    no
Ni1 . N1 . H11 . 109.3    no
C2 . N1 . H12 . 109.9    no
Ni1 . N1 . H12 . 111.5    no
H11 . N1 . H12 . 112.4    no
C1 . O1 . Ni1 . 108.3(3)    yes
C4 . O3 . Ni1 . 128.2(4)    yes
C4 . O4 . Ni1 3_555 119.2(4)    yes
Ni1 . O5 . H51 . 98(6)    no
Ni1 . O5 . H52 . 100(5)    no
H51 . O5 . H52 . 103.9(10)    no
Ni1 . O6 . H61 . 83(5)    no
Ni1 . O6 . H62 . 142(6)    no
H61 . O6 . H62 . 104.1(10)    no
H71 . O7 . H72 . 104.2(10)    no
